BEGIN:VCALENDAR
VERSION:2.0
PRODID:-//Y107 - ECPv6.15.20//NONSGML v1.0//EN
CALSCALE:GREGORIAN
METHOD:PUBLISH
X-WR-CALNAME:Y107
X-ORIGINAL-URL:https://y107.com
X-WR-CALDESC:Events for Y107
REFRESH-INTERVAL;VALUE=DURATION:PT1H
X-Robots-Tag:noindex
X-PUBLISHED-TTL:PT1H
BEGIN:VTIMEZONE
TZID:America/Chicago
BEGIN:DAYLIGHT
TZOFFSETFROM:-0600
TZOFFSETTO:-0500
TZNAME:CDT
DTSTART:20250309T080000
END:DAYLIGHT
BEGIN:STANDARD
TZOFFSETFROM:-0500
TZOFFSETTO:-0600
TZNAME:CST
DTSTART:20251102T070000
END:STANDARD
BEGIN:DAYLIGHT
TZOFFSETFROM:-0600
TZOFFSETTO:-0500
TZNAME:CDT
DTSTART:20260308T080000
END:DAYLIGHT
BEGIN:STANDARD
TZOFFSETFROM:-0500
TZOFFSETTO:-0600
TZNAME:CST
DTSTART:20261101T070000
END:STANDARD
BEGIN:DAYLIGHT
TZOFFSETFROM:-0600
TZOFFSETTO:-0500
TZNAME:CDT
DTSTART:20270314T080000
END:DAYLIGHT
BEGIN:STANDARD
TZOFFSETFROM:-0500
TZOFFSETTO:-0600
TZNAME:CST
DTSTART:20271107T070000
END:STANDARD
END:VTIMEZONE
BEGIN:VEVENT
DTSTART;TZID=America/Chicago:20260409T110000
DTEND;TZID=America/Chicago:20260409T150000
DTSTAMP:20260420T033835
CREATED:20260408T154800Z
LAST-MODIFIED:20260409T135455Z
UID:144694-1775732400-1775746800@y107.com
SUMMARY:State of Missouri Hiring Event
DESCRIPTION:Cosmo + Kat from the Y107 Morning Show will be live at the Capital Plaza Hotel from 11a-1p  The State of Missouri Hiring Event.  This is a perfect chance to meet with multiple state agencies on site\, meet with recruiters\, receive resume support\, you could even interview for jobs on the spot!  Kick start your career!  The State of Missouri is equal opportunity employer.  Learn more now!!!
URL:https://y107.com/event/state-of-missouri-hiring-event/
LOCATION:Capital Plaza Hotel\, 415 W. McCarty Street\, Jefferson City\, Missouri\, 65101\, United States
CATEGORIES:On the Street
ATTACH;FMTTYPE=image/jpeg:https://y107.com/wp-content/uploads/sites/10/2025/04/state-of-mo-hiring-4926.jpg
END:VEVENT
END:VCALENDAR